

BEGIN:VCALENDAR
VERSION:2.0
PRODID:-//wp-events-plugin.com//6.6.4.4//EN
TZID:Europe/Berlin
X-WR-TIMEZONE:Europe/Berlin
BEGIN:VEVENT
UID:15@fairewoche.bizme.de
DTSTART;TZID=Europe/Berlin:20221001T110000
DTEND;TZID=Europe/Berlin:20221001T170000
DTSTAMP:20220824T131220Z
URL:https://fairewoche.bizme.de/events/25-jahre-engagiert-fuer-gerechten-w
 elthandel/
SUMMARY:25 Jahre engagiert für gerechten Welthandel
DESCRIPTION:Der Weltladen Bremen im Ostertorsteinweg hat Geburtstag. Das wi
 rd gemeinsam mit unseren Kund*innen gefeiert! Geburtstagskuchen und Mitmac
 hen bei der Gute-Wünsche-Wimpel-Aktion: Wünsche für eine Welt von morge
 n.
LOCATION:Weltladen Bremen\, Ostertorsteinweg 90\, Bremen\, 28203\, Deutschl
 and
X-APPLE-STRUCTURED-LOCATION;VALUE=URI;X-ADDRESS=Ostertorsteinweg 90\, Breme
 n\, 28203\, Deutschland;X-APPLE-RADIUS=100;X-TITLE=Weltladen Bremen:geo:0,
 0
END:VEVENT
BEGIN:VTIMEZONE
TZID:Europe/Berlin
X-LIC-LOCATION:Europe/Berlin
BEGIN:DAYLIGHT
DTSTART:20220327T030000
TZOFFSETFROM:+0100
TZOFFSETTO:+0200
TZNAME:CEST
END:DAYLIGHT
END:VTIMEZONE
END:VCALENDAR