

BEGIN:VCALENDAR
VERSION:2.0
PRODID:-//wp-events-plugin.com//6.6.4.4//EN
TZID:Europe/Berlin
X-WR-TIMEZONE:Europe/Berlin
BEGIN:VEVENT
UID:14@fairewoche.bizme.de
DTSTART;TZID=Europe/Berlin;VALUE=DATE:20220916
DTEND;TZID=Europe/Berlin;VALUE=DATE:20221001
DTSTAMP:20220824T130506Z
URL:https://fairewoche.bizme.de/events/augen-auf-beim-kleiderkauf/
SUMMARY:Augen auf beim Kleiderkauf!
DESCRIPTION:Faire Mode ist guter Stoff für alle. Was den Unterschied macht
 \, erzählen wir während der Fairen Woche: In unserem textilen Sortiment 
 – vom Stoff-Etui bis zur öko-fairen Mode sind während der Fairen Woche
  Botschaften aus dem Süden versteckt. Wer sie findet\, kann mit einer kle
 inen Überraschung rechnen.
LOCATION:Weltladen Bremen\, Ostertorsteinweg 90\, Bremen\, 28203\, Deutschl
 and
X-APPLE-STRUCTURED-LOCATION;VALUE=URI;X-ADDRESS=Ostertorsteinweg 90\, Breme
 n\, 28203\, Deutschland;X-APPLE-RADIUS=100;X-TITLE=Weltladen Bremen:geo:0,
 0
END:VEVENT
BEGIN:VTIMEZONE
TZID:Europe/Berlin
X-LIC-LOCATION:Europe/Berlin
BEGIN:DAYLIGHT
DTSTART:20220327T030000
TZOFFSETFROM:+0100
TZOFFSETTO:+0200
TZNAME:CEST
END:DAYLIGHT
END:VTIMEZONE
END:VCALENDAR