

BEGIN:VCALENDAR
VERSION:2.0
PRODID:-//wp-events-plugin.com//6.6.4.4//EN
TZID:Europe/Berlin
X-WR-TIMEZONE:Europe/Berlin
BEGIN:VEVENT
UID:4@fairewoche.bizme.de
DTSTART;TZID=Europe/Berlin;VALUE=DATE:20220920
DTEND;TZID=Europe/Berlin;VALUE=DATE:20220927
DTSTAMP:20220817T094715Z
URL:https://fairewoche.bizme.de/events/ausstellung-fair-denken-kreativ-han
 deln-konsum-mit-koepfchen-2/
SUMMARY:Ausstellung: Fair denken & kreativ handeln – Konsum mit Köpfchen
DESCRIPTION:Wir trinken Kaffee\, essen Schokolade und kaufen Kleidung und M
 öbel - aber wir wissen oft nicht\, wo und wie diese Produkte angebaut bzw
 . hergestellt werden.\n\nDie Ausstellung möchte den Betrachter*innen näh
 erbringen\, was hinter Nachhaltigem Konsum steckt.\n\n&nbsp\;
CATEGORIES:Ausstellung
LOCATION:UNTERWEGS – DAV Kletterzentrum Bremen\, Robert-Hooke-Straße 19\
 , Bremen\, 28359 \, Deutschland
X-APPLE-STRUCTURED-LOCATION;VALUE=URI;X-ADDRESS=Robert-Hooke-Straße 19\, B
 remen\, 28359 \, Deutschland;X-APPLE-RADIUS=100;X-TITLE=UNTERWEGS – DAV 
 Kletterzentrum Bremen:geo:0,0
END:VEVENT
BEGIN:VTIMEZONE
TZID:Europe/Berlin
X-LIC-LOCATION:Europe/Berlin
BEGIN:DAYLIGHT
DTSTART:20220327T030000
TZOFFSETFROM:+0100
TZOFFSETTO:+0200
TZNAME:CEST
END:DAYLIGHT
END:VTIMEZONE
END:VCALENDAR