

BEGIN:VCALENDAR
VERSION:2.0
PRODID:-//wp-events-plugin.com//6.6.4.4//EN
TZID:Europe/Berlin
X-WR-TIMEZONE:Europe/Berlin
BEGIN:VEVENT
UID:10@fairewoche.bizme.de
DTSTART;TZID=Europe/Berlin:20220921T200000
DTEND;TZID=Europe/Berlin:20220921T220000
DTSTAMP:20220907T094356Z
URL:https://fairewoche.bizme.de/events/das-europaeische-lieferkettengesetz
 /
SUMMARY:Soziale und ökologische Nachhaltigkeit entlang globaler Lieferkett
 en
DESCRIPTION:Im Sommer 2021 wurde das Lieferkettensorgfaltspflichtengesetz i
 m Deutschen Bundestag verabschiedet. Im Januar 2023 tritt es in Kraft. Zie
 l des Gesetzes ist es\, Unternehmen zur Einhaltung und Überprüfung gelte
 nder Menschenrechtsstandards zu verpflichten. Nun ist auch auf europäisch
 er Ebene ein Gesetz in Vorbereitung\, das Mensch und Umwelt entlang global
 er Lieferketten schützen soll. Welche Erwartungen\, Hoffnungen oder Befü
 rchtungen haben Unternehmen\, Politiker:innen und die Zivilgesellschaft ge
 genüber dem europäischen Gesetzesvorhaben? Darüber wollen wir im Rahmen
  der Veranstaltung mit folgenden Gästen diskutieren:\n\nJoachim Schuster 
 (MdEP\, SPD / S&amp\;D)\, Diana Sanabria (Referentin für Weltwirtschaft d
 er Nordkirche)\, IHK Bremen und Bremerhaven (angefragt)
LOCATION:Domkapitelsaal\, Domsheide 8\, Bremen\, Deutschland
X-APPLE-STRUCTURED-LOCATION;VALUE=URI;X-ADDRESS=Domsheide 8\, Bremen\, Deut
 schland;X-APPLE-RADIUS=100;X-TITLE=Domkapitelsaal:geo:0,0
END:VEVENT
BEGIN:VTIMEZONE
TZID:Europe/Berlin
X-LIC-LOCATION:Europe/Berlin
BEGIN:DAYLIGHT
DTSTART:20220327T030000
TZOFFSETFROM:+0100
TZOFFSETTO:+0200
TZNAME:CEST
END:DAYLIGHT
END:VTIMEZONE
END:VCALENDAR