

BEGIN:VCALENDAR
VERSION:2.0
PRODID:-//wp-events-plugin.com//6.6.4.4//EN
TZID:Europe/Berlin
X-WR-TIMEZONE:Europe/Berlin
BEGIN:VEVENT
UID:9@fairewoche.bizme.de
DTSTART;TZID=Europe/Berlin:20220920T170000
DTEND;TZID=Europe/Berlin:20220920T183000
DTSTAMP:20220817T101046Z
URL:https://fairewoche.bizme.de/events/digitale-diskussionsveranstaltung-z
 um-eu-lieferkettengesetz/
SUMMARY:Digitale Diskussionsveranstaltung zum EU-Lieferkettengesetz
DESCRIPTION:Gemeinsam mit dem EU-Parlamentsabgeordneten Tiemo Woelken komme
 n Johanna Zschornack\, Referentin für Wirtschaft und Menschenrechte und N
 ele Wiehenkamp\, Promotorin für den Fairen Handel zum EU-Lieferkettengese
 tz ins Gespräch und stellen sich den Fragen der Zuschauenden.
CATEGORIES:Diskussion
LOCATION:https://www.twitch.tv/woelken
END:VEVENT
BEGIN:VTIMEZONE
TZID:Europe/Berlin
X-LIC-LOCATION:Europe/Berlin
BEGIN:DAYLIGHT
DTSTART:20220327T030000
TZOFFSETFROM:+0100
TZOFFSETTO:+0200
TZNAME:CEST
END:DAYLIGHT
END:VTIMEZONE
END:VCALENDAR