

BEGIN:VCALENDAR
VERSION:2.0
PRODID:-//wp-events-plugin.com//6.6.4.4//EN
TZID:Europe/Berlin
X-WR-TIMEZONE:Europe/Berlin
BEGIN:VEVENT
UID:13@fairewoche.bizme.de
DTSTART;TZID=Europe/Berlin:20220920T143000
DTEND;TZID=Europe/Berlin:20220920T180000
DTSTAMP:20220824T130031Z
URL:https://fairewoche.bizme.de/events/fest-der-nachhaltigkeit/
SUMMARY:Fest der Nachhaltigkeit
DESCRIPTION:Große und Kleine\, Jung und Alt sind herzlich eingeladen zum i
 nterreligiösen Gottesdienst mit sich anschließendem Klimafest\, das geme
 insam mit dem Familien-Quartiers-Zentrum ausgerichtet wird. Infos zum Prog
 ramm folgen noch\n\nVeranstalter: viele… Gemeinde Neue Vahr\, Familien-Q
 uartiers-Zentrum\, Verbraucherzentrale\, NABU\, Klimactivity\, Brot für d
 ie Welt\, Kampagne für saubere Kleidung\, Klimaschutzmanagement der BEK
 …
CATEGORIES:Aktion
LOCATION:Heilig-Geist-Kirche Neue Vahr\, August-Bebel-Alle 276\, Bremen\, 2
 8329 \, Deutschland
X-APPLE-STRUCTURED-LOCATION;VALUE=URI;X-ADDRESS=August-Bebel-Alle 276\, Bre
 men\, 28329 \, Deutschland;X-APPLE-RADIUS=100;X-TITLE=Heilig-Geist-Kirche 
 Neue Vahr:geo:0,0
END:VEVENT
BEGIN:VTIMEZONE
TZID:Europe/Berlin
X-LIC-LOCATION:Europe/Berlin
BEGIN:DAYLIGHT
DTSTART:20220327T030000
TZOFFSETFROM:+0100
TZOFFSETTO:+0200
TZNAME:CEST
END:DAYLIGHT
END:VTIMEZONE
END:VCALENDAR