

BEGIN:VCALENDAR
VERSION:2.0
PRODID:-//wp-events-plugin.com//6.6.4.4//EN
TZID:Europe/Berlin
X-WR-TIMEZONE:Europe/Berlin
BEGIN:VEVENT
UID:6@fairewoche.bizme.de
DTSTART;TZID=Europe/Berlin:20220917T193000
DTEND;TZID=Europe/Berlin:20220917T220000
DTSTAMP:20220817T095440Z
URL:https://fairewoche.bizme.de/events/filmabend-made-in-bangladesh/
SUMMARY:Filmabend: Made in Bangladesh
DESCRIPTION:Die 23-jährige Shimu arbeitet in einer Textilfabrik in Dhaka\,
  der Hauptstadt von Bangladesch\, unter ausbeuterischen Bedingungen. Doch 
 sie setzt sich zur Wehr\, indem sie\, zusammen mit ihren Kolleg:innen\, ei
 ne Gewerkschaft gründet. Daraufhin übt ihr Ehemann Druck auf sie aus und
  die Fabrikleitung beginnt ihr zu drohen. Aber Shimu lässt sich nicht ent
 mutigen.\n\nZum Hintergrund\n\nBangladesch ist nach China der zweitgrößt
 e Textilexporteur weltweit. 80 Prozent der Exporterlöse stammen aus der T
 extilwirtschaft\, wo über vier Millionen Menschen arbeiten - 3\,2 Million
 en davon sind Frauen. In Bangladesch werden die niedrigsten Löhne weltwei
 t bezahlt\, was dazu geführt hat\, dass dieser Industriezweig enorm wachs
 en konnte. Der Mindestlohn liegt bei 63 Euro im Monat\, zum Leben benötig
 t ein Mensch laut des Asia Floor Wage 370 Euro pro Monat. Gewerkschaften g
 ibt es in 142 der insgesamt 7.000 Fabriken. Neben den niedrigen Löhnen is
 t die Arbeitssicherheit ein großes Thema in der Textilindustrie. So kennz
 eichnen zahlreiche Unglücke diesen Industriezweig\, darunter der Einsturz
  der Fabrik „Rana Plaza“ im Jahr 2013 mit 1.136 Toten und 2.500 Verlet
 zten. Dieses schwere Unglück sorgte dafür\, dass der „Bangladesh Accor
 d“ abgeschlossen und zahlreiche Textilfabriken saniert oder geschlossen 
 wurden.\n(https://www.brot-fuer-die-welt.de/blog/2021-film-made-in-banglad
 esh/)\n\n&nbsp\;\n\nKontaktinformationen:\nBremische Evangelische Kirche\,
  Diakonisches Werk Bremen (Brot für die Welt)\, Kirchlicher Dienst in der
  Arbeitswelt\nheitmann@diakonie-bremen.de
CATEGORIES:Film
LOCATION:Gemeindezentrum Zion\, Kornstraße 31\, Bremen\, 28201\, Deutschla
 nd
X-APPLE-STRUCTURED-LOCATION;VALUE=URI;X-ADDRESS=Kornstraße 31\, Bremen\, 2
 8201\, Deutschland;X-APPLE-RADIUS=100;X-TITLE=Gemeindezentrum Zion:geo:0,0
END:VEVENT
BEGIN:VTIMEZONE
TZID:Europe/Berlin
X-LIC-LOCATION:Europe/Berlin
BEGIN:DAYLIGHT
DTSTART:20220327T030000
TZOFFSETFROM:+0100
TZOFFSETTO:+0200
TZNAME:CEST
END:DAYLIGHT
END:VTIMEZONE
END:VCALENDAR