

BEGIN:VCALENDAR
VERSION:2.0
PRODID:-//wp-events-plugin.com//6.6.4.4//EN
TZID:Europe/Berlin
X-WR-TIMEZONE:Europe/Berlin
BEGIN:VEVENT
UID:5@fairewoche.bizme.de
DTSTART;TZID=Europe/Berlin:20220921T190000
DTEND;TZID=Europe/Berlin:20220921T210000
DTSTAMP:20220817T094859Z
URL:https://fairewoche.bizme.de/events/fuehrung-durch-die-ausstellung-fair
 -denken-kreativ-handeln/
SUMMARY:Führung durch die Ausstellung "Fair denken & Kreativ Handeln"
DESCRIPTION:Wir trinken Kaffee\, essen Schokolade und kaufen Kleidung und M
 öbel - aber wir wissen oft nicht\, wo und wie diese Produkte angebaut bzw
 . hergestellt werden.\n\nDie Ausstellung FAIR DENKEN &amp\; KREATIV HANDEL
 N – Konsum mit Köpfchen möchte den Betrachter*innen näherbringen\, wa
 s hinter fairem Handel und nachhaltigem Konsum steckt. Nele Wiehenkamp\, P
 romotorin für den fairen Handel vom Bremer Informationszentrum für Mensc
 henrechte und Entwicklung wird durch die Ausstellung führen und mit den T
 eilnehmenden ins Gespräch kommen\, rund ums Thema fairer Handel und Nachh
 altigkeit.\n\nAnmeldung:  telefonisch im Kletterzentrum: 0421 51429053
LOCATION:UNTERWEGS – DAV Kletterzentrum Bremen\, Robert-Hooke-Straße 19\
 , Bremen\, 28359\, Deutschland
X-APPLE-STRUCTURED-LOCATION;VALUE=URI;X-ADDRESS=Robert-Hooke-Straße 19\, B
 remen\, 28359\, Deutschland;X-APPLE-RADIUS=100;X-TITLE=UNTERWEGS – DAV K
 letterzentrum Bremen:geo:0,0
END:VEVENT
BEGIN:VTIMEZONE
TZID:Europe/Berlin
X-LIC-LOCATION:Europe/Berlin
BEGIN:DAYLIGHT
DTSTART:20220327T030000
TZOFFSETFROM:+0100
TZOFFSETTO:+0200
TZNAME:CEST
END:DAYLIGHT
END:VTIMEZONE
END:VCALENDAR