

BEGIN:VCALENDAR
VERSION:2.0
PRODID:-//wp-events-plugin.com//6.6.4.4//EN
TZID:Europe/Berlin
X-WR-TIMEZONE:Europe/Berlin
BEGIN:VEVENT
UID:8@fairewoche.bizme.de
DTSTART;TZID=Europe/Berlin:20220920T170000
DTEND;TZID=Europe/Berlin:20220920T180000
DTSTAMP:20220817T100308Z
URL:https://fairewoche.bizme.de/events/fuehrung-mein-kletterzentrum-ist-na
 chhaltig/
SUMMARY:Führung: Mein Kletterzentrum ist nachhaltig!
DESCRIPTION:Jonas Loss\, Betriebsleiter des UNTERWEGS – DAV Kletterzentru
 m Bremen führt durch die Vereinssportstätte und gibt einen Überblick ü
 ber getroffene Maßnahmen zur Umsetzung der Nachhaltigkeitsziele (SDG) im 
 Kletterzentrum\, die oft auch zuhause angewendet werden können.\n\nAnmeld
 ung:  telefonisch im Kletterzentrum: 0421 5142905
LOCATION:UNTERWEGS – DAV Kletterzentrum Bremen\, Robert-Hooke-Straße 19\
 , Bremen\, 28359\, Deutschland
X-APPLE-STRUCTURED-LOCATION;VALUE=URI;X-ADDRESS=Robert-Hooke-Straße 19\, B
 remen\, 28359\, Deutschland;X-APPLE-RADIUS=100;X-TITLE=UNTERWEGS – DAV K
 letterzentrum Bremen:geo:0,0
END:VEVENT
BEGIN:VTIMEZONE
TZID:Europe/Berlin
X-LIC-LOCATION:Europe/Berlin
BEGIN:DAYLIGHT
DTSTART:20220327T030000
TZOFFSETFROM:+0100
TZOFFSETTO:+0200
TZNAME:CEST
END:DAYLIGHT
END:VTIMEZONE
END:VCALENDAR