

BEGIN:VCALENDAR
VERSION:2.0
PRODID:-//wp-events-plugin.com//6.6.4.4//EN
TZID:Europe/Berlin
X-WR-TIMEZONE:Europe/Berlin
BEGIN:VEVENT
UID:12@fairewoche.bizme.de
DTSTART;TZID=Europe/Berlin:20220918T110000
DTEND;TZID=Europe/Berlin:20220918T160000
DTSTAMP:20220824T125658Z
URL:https://fairewoche.bizme.de/events/markt-der-moeglichkeiten/
SUMMARY:Markt der Möglichkeiten
DESCRIPTION:Schöpfung bewahren - wie schaffen wir das? Das Problem: wir ü
 berfordern die Regenerationskraft der Biosphäre\, wir zerstören Gottes S
 chöpfung\, zu viele Menschen zerstören den Lebensraum durch Verbrauch vo
 n Ressourcen\, Belastung mit Abfällen und Versiegelung des Bodens Inzwisc
 hen erkennen das immer mehr Menschen. Hellen wir doch das düstere Bild de
 r Zerstörung auf. Auf dem Markt der Möglichkeiten können wir uns an sie
 ben Stationen austauschen und Mut machen.\n\nVeranstalter: AG Tomorrow der
  Gemeinde St. Martini Lesum
CATEGORIES:Aktion
LOCATION:St. Martini Lesum\, Hindenburgstr. 30\, Bremen\, 28717\, Deutschla
 nd
X-APPLE-STRUCTURED-LOCATION;VALUE=URI;X-ADDRESS=Hindenburgstr. 30\, Bremen\
 , 28717\, Deutschland;X-APPLE-RADIUS=100;X-TITLE=St. Martini Lesum:geo:0,0
END:VEVENT
BEGIN:VTIMEZONE
TZID:Europe/Berlin
X-LIC-LOCATION:Europe/Berlin
BEGIN:DAYLIGHT
DTSTART:20220327T030000
TZOFFSETFROM:+0100
TZOFFSETTO:+0200
TZNAME:CEST
END:DAYLIGHT
END:VTIMEZONE
END:VCALENDAR