

BEGIN:VCALENDAR
VERSION:2.0
PRODID:-//wp-events-plugin.com//6.6.4.4//EN
TZID:Europe/Berlin
X-WR-TIMEZONE:Europe/Berlin
BEGIN:VEVENT
UID:11@fairewoche.bizme.de
DTSTART;TZID=Europe/Berlin:20220923T150000
DTEND;TZID=Europe/Berlin:20220923T170000
DTSTAMP:20220817T101555Z
URL:https://fairewoche.bizme.de/events/roesterei-fuehrung-verkostung-fuer-
 eine-welt-die-allen-schmeckt-so-geht-fairer-bio-kaffee/
SUMMARY:Rösterei-Führung & Verkostung: Für eine Welt\, die allen schmeck
 t - So geht fairer Bio-Kaffee!
DESCRIPTION:Achtung\, vorher keinen Kaffee trinken\, hier wird viel probier
 t. \;-)\n\nSusanne Decker\, Rösterei UTAMTSI GmbH\, www.utamtsi-kaffee.co
 m\n\nKosten:15€/Person\n\nAnmeldung: telefonisch im Kletterzentrum: 0421
  51429053 (max. 12 Personen)\n\nhttps://www.kletterzentrum-bremen.com/2022
 /07/06/deutsche-aktionstage-nachhaltigkeit/
CATEGORIES:Verkostung
LOCATION:Utamtsi\, Worphauser Landstrasse 55\, Lilienthal\, 28865\, Deutsch
 land
X-APPLE-STRUCTURED-LOCATION;VALUE=URI;X-ADDRESS=Worphauser Landstrasse 55\,
  Lilienthal\, 28865\, Deutschland;X-APPLE-RADIUS=100;X-TITLE=Utamtsi:geo:0
 ,0
END:VEVENT
BEGIN:VTIMEZONE
TZID:Europe/Berlin
X-LIC-LOCATION:Europe/Berlin
BEGIN:DAYLIGHT
DTSTART:20220327T030000
TZOFFSETFROM:+0100
TZOFFSETTO:+0200
TZNAME:CEST
END:DAYLIGHT
END:VTIMEZONE
END:VCALENDAR