

BEGIN:VCALENDAR
VERSION:2.0
PRODID:-//wp-events-plugin.com//6.6.4.4//EN
TZID:Europe/Berlin
X-WR-TIMEZONE:Europe/Berlin
BEGIN:VEVENT
UID:7@fairewoche.bizme.de
DTSTART;TZID=Europe/Berlin:20220920T100000
DTEND;TZID=Europe/Berlin:20220920T130000
DTSTAMP:20220817T100049Z
URL:https://fairewoche.bizme.de/events/textilien-im-fairen-handel/
SUMMARY:Textilien im Fairen Handel
DESCRIPTION:Die Eine-Welt-Aktion Bremen e.V. lädt herzlich ein zur Besicht
 igung des Sortiments. Welche Textilien haben wir im Angebot und wo kommen 
 sie her. Ein Informationsaustausch.\n\n&nbsp\;
CATEGORIES:Informationsstand
LOCATION:Eine-Welt-Aktion Bremen e.V.\, Kornstraße 283\, Bremen\, 28201 \,
  Deutschland
X-APPLE-STRUCTURED-LOCATION;VALUE=URI;X-ADDRESS=Kornstraße 283\, Bremen\, 
 28201 \, Deutschland;X-APPLE-RADIUS=100;X-TITLE=Eine-Welt-Aktion Bremen e.
 V.:geo:0,0
END:VEVENT
BEGIN:VTIMEZONE
TZID:Europe/Berlin
X-LIC-LOCATION:Europe/Berlin
BEGIN:DAYLIGHT
DTSTART:20220327T030000
TZOFFSETFROM:+0100
TZOFFSETTO:+0200
TZNAME:CEST
END:DAYLIGHT
END:VTIMEZONE
END:VCALENDAR